BEGIN:VCALENDAR
VERSION:2.0
PRODID:-//One Community Outreach United - ECPv6.15.20//NONSGML v1.0//EN
CALSCALE:GREGORIAN
METHOD:PUBLISH
X-ORIGINAL-URL:https://onecommunityoutreach.org
X-WR-CALDESC:Events for One Community Outreach United
REFRESH-INTERVAL;VALUE=DURATION:PT1H
X-Robots-Tag:noindex
X-PUBLISHED-TTL:PT1H
BEGIN:VTIMEZONE
TZID:America/Chicago
BEGIN:DAYLIGHT
TZOFFSETFROM:-0600
TZOFFSETTO:-0500
TZNAME:CDT
DTSTART:20220313T080000
END:DAYLIGHT
BEGIN:STANDARD
TZOFFSETFROM:-0500
TZOFFSETTO:-0600
TZNAME:CST
DTSTART:20221106T070000
END:STANDARD
BEGIN:DAYLIGHT
TZOFFSETFROM:-0600
TZOFFSETTO:-0500
TZNAME:CDT
DTSTART:20230312T080000
END:DAYLIGHT
BEGIN:STANDARD
TZOFFSETFROM:-0500
TZOFFSETTO:-0600
TZNAME:CST
DTSTART:20231105T070000
END:STANDARD
BEGIN:DAYLIGHT
TZOFFSETFROM:-0600
TZOFFSETTO:-0500
TZNAME:CDT
DTSTART:20240310T080000
END:DAYLIGHT
BEGIN:STANDARD
TZOFFSETFROM:-0500
TZOFFSETTO:-0600
TZNAME:CST
DTSTART:20241103T070000
END:STANDARD
BEGIN:DAYLIGHT
TZOFFSETFROM:-0600
TZOFFSETTO:-0500
TZNAME:CDT
DTSTART:20250309T080000
END:DAYLIGHT
BEGIN:STANDARD
TZOFFSETFROM:-0500
TZOFFSETTO:-0600
TZNAME:CST
DTSTART:20251102T070000
END:STANDARD
BEGIN:DAYLIGHT
TZOFFSETFROM:-0600
TZOFFSETTO:-0500
TZNAME:CDT
DTSTART:20260308T080000
END:DAYLIGHT
BEGIN:STANDARD
TZOFFSETFROM:-0500
TZOFFSETTO:-0600
TZNAME:CST
DTSTART:20261101T070000
END:STANDARD
END:VTIMEZONE
BEGIN:VEVENT
DTSTART;TZID=America/Chicago:20251215T110000
DTEND;TZID=America/Chicago:20251215T133000
DTSTAMP:20260423T123608
CREATED:20260128T033122Z
LAST-MODIFIED:20260128T033122Z
UID:1177-1765796400-1765805400@onecommunityoutreach.org
SUMMARY:Table of Giving
DESCRIPTION:
URL:https://onecommunityoutreach.org/event/table-of-giving/
ATTACH;FMTTYPE=image/jpeg:https://onecommunityoutreach.org/wp-content/uploads/2026/01/tg1.jpg
END:VEVENT
BEGIN:VEVENT
DTSTART;TZID=America/Chicago:20250725T183000
DTEND;TZID=America/Chicago:20250725T203000
DTSTAMP:20260423T123608
CREATED:20250610T001741Z
LAST-MODIFIED:20250610T001741Z
UID:1008-1753468200-1753475400@onecommunityoutreach.org
SUMMARY:OCOU Back 2 School Jam 2025
DESCRIPTION:
URL:https://onecommunityoutreach.org/event/ocou-back-2-school-jam-2025/
LOCATION:Prattville Fair Grounds\, 1050 Martin Luther King Drive\, Prattville\, AL\, 36066\, United States
ATTACH;FMTTYPE=image/png:https://onecommunityoutreach.org/wp-content/uploads/2025/05/OCOU-Back-To-School-Flyer-2025-3A.png
END:VEVENT
BEGIN:VEVENT
DTSTART;TZID=America/Chicago:20250517T090000
DTEND;TZID=America/Chicago:20250517T120000
DTSTAMP:20260423T123608
CREATED:20250212T032724Z
LAST-MODIFIED:20250212T032759Z
UID:983-1747472400-1747483200@onecommunityoutreach.org
SUMMARY:OCOU 2025 Health Fair
DESCRIPTION:
URL:https://onecommunityoutreach.org/event/ocou-2025-health-fair/
LOCATION:Doster Community Center\, 424 S. Northington St\, Prattville\, AL\, 36067\, United States
ATTACH;FMTTYPE=image/png:https://onecommunityoutreach.org/wp-content/uploads/2025/01/OCOU-Health-Fair-2025-1.png
END:VEVENT
BEGIN:VEVENT
DTSTART;VALUE=DATE:20250315
DTEND;VALUE=DATE:20250316
DTSTAMP:20260423T123608
CREATED:20250212T033258Z
LAST-MODIFIED:20250212T033519Z
UID:985-1741996800-1742083199@onecommunityoutreach.org
SUMMARY:"It's My Turn" Stage Play
DESCRIPTION:Experience It’s My Turn – A Stage Play with Purpose!\n\n\nJoin One Community Outreach United (OCOU) for an unforgettable night at It’s My Turn—a powerful stage play that will inspire and uplift!\n\n\nDate: March 15\, 2025\n\n\nLocation: The Sanctuary (432 Goldwaithe Street\, Montgomery\, AL 36104)\n\n\nTickets: Get yours here: https://www.eventbrite.com/…/its-my-turn-stage-play…\n\n\nProceeds from this event will benefit OCOU’s Academic Scholarship Fund\, helping students achieve their educational dreams.\n\n\nBe part of something bigger—grab your tickets today and support a cause that changes lives!\n\n\n#ItsMyTurn #OCOU #ScholarshipsMatter #SupportTheArts #MontgomeryEvents
URL:https://onecommunityoutreach.org/event/its-my-turn-stage-play/
LOCATION:The Sanctuary\, 432 Goldthwaite St\, \, AL\, Montgomery\, AL\, 36104\, United States
ATTACH;FMTTYPE=image/png:https://onecommunityoutreach.org/wp-content/uploads/2025/02/ocou-with-qr-code.png
END:VEVENT
BEGIN:VEVENT
DTSTART;TZID=America/Chicago:20241015T000000
DTEND;TZID=America/Chicago:20241211T000000
DTSTAMP:20260423T123608
CREATED:20241009T021007Z
LAST-MODIFIED:20241009T021007Z
UID:932-1728950400-1733875200@onecommunityoutreach.org
SUMMARY:After School Tutoring
DESCRIPTION:After School Tutoring\nTutoring Sessions Will be by Appointment Only\nClick Here to Register On-line Today
URL:https://onecommunityoutreach.org/event/after-school-tutoring-2/
LOCATION:1st Missionary Baptist Church\, 192 7th Street\, Prattville\, AL\, 36067\, United States
ATTACH;FMTTYPE=image/png:https://onecommunityoutreach.org/wp-content/uploads/2024/10/OCOU-Tutor-FALL-2024.png
END:VEVENT
BEGIN:VEVENT
DTSTART;TZID=America/Chicago:20240726T180000
DTEND;TZID=America/Chicago:20240726T200000
DTSTAMP:20260423T123608
CREATED:20240703T033952Z
LAST-MODIFIED:20240703T033952Z
UID:769-1722016800-1722024000@onecommunityoutreach.org
SUMMARY:Back 2 School Jam 2024
DESCRIPTION:
URL:https://onecommunityoutreach.org/event/back-2-school-jam-2024/
LOCATION:Prattville Fair Grounds\, 1050 Martin Luther King Drive\, Prattville\, AL\, 36066\, United States
ATTACH;FMTTYPE=image/png:https://onecommunityoutreach.org/wp-content/uploads/2024/07/OCOU-Back-2-School-Jam-2024.png
END:VEVENT
BEGIN:VEVENT
DTSTART;TZID=America/Chicago:20240615T090000
DTEND;TZID=America/Chicago:20240615T120000
DTSTAMP:20260423T123608
CREATED:20240225T071559Z
LAST-MODIFIED:20240225T071559Z
UID:726-1718442000-1718452800@onecommunityoutreach.org
SUMMARY:OCOU Health Fair
DESCRIPTION:
URL:https://onecommunityoutreach.org/event/ocou-health-fair/
LOCATION:Doster Community Center\, 424 S. Northington St\, Prattville\, AL\, 36067\, United States
ATTACH;FMTTYPE=image/jpeg:https://onecommunityoutreach.org/wp-content/uploads/2024/02/Green-Health-Fair-Community-Day-Flyer-Made-with-PosterMyWall-3-1.jpg
END:VEVENT
BEGIN:VEVENT
DTSTART;TZID=America/Chicago:20240113T100000
DTEND;TZID=America/Chicago:20240113T113000
DTSTAMP:20260423T123608
CREATED:20240109T030750Z
LAST-MODIFIED:20240109T030750Z
UID:688-1705140000-1705145400@onecommunityoutreach.org
SUMMARY:First Missionary Baptist Church Historical Marker Dedication Ceremony
DESCRIPTION:Happy New Year!!!\nAs we begin a new chapter of our book\, we always believe in starting off remembering those who came before us. On Saturday\, January 13\, 2024\, from 10 a.m to 11:30 a.m\, First Missionary Baptist Church will be hosting its historical marker dedication ceremony at 192 7th Street Prattville\, Al. Learn about the rich history that lies within this landmark. Join us! You don’t want to miss!
URL:https://onecommunityoutreach.org/event/first-missionary-baptist-church-historical-marker-dedication-ceremony/
LOCATION:1st Missionary Baptist Church\, 192 7th Street\, Prattville\, AL\, 36067\, United States
ATTACH;FMTTYPE=image/jpeg:https://onecommunityoutreach.org/wp-content/uploads/2024/01/417162407_354823237298691_2011112867379085135_n.jpg
END:VEVENT
BEGIN:VEVENT
DTSTART;VALUE=DATE:20231018
DTEND;VALUE=DATE:20231221
DTSTAMP:20260423T123608
CREATED:20231002T033654Z
LAST-MODIFIED:20231003T031412Z
UID:617-1697587200-1703116799@onecommunityoutreach.org
SUMMARY:Afterschool Tutoring
DESCRIPTION:Tutoring will be every Wednesday from 5:15 pm to 6:00 pm and Saturday from 9:30 am to 10:15 am.  Please have students to bring all school materials that they will need help with on the day of tutoring. \nClick Here to Register.
URL:https://onecommunityoutreach.org/event/afterschool-tutoring/
LOCATION:1st Missionary Baptist Church\, 192 7th Street\, Prattville\, AL\, 36067\, United States
ATTACH;FMTTYPE=image/png:https://onecommunityoutreach.org/wp-content/uploads/2023/10/OCOU-Tutoring-2-Fall-2023.png
END:VEVENT
BEGIN:VEVENT
DTSTART;TZID=America/Chicago:20230728T170000
DTEND;TZID=America/Chicago:20230728T193000
DTSTAMP:20260423T123608
CREATED:20230604T141756Z
LAST-MODIFIED:20230604T141756Z
UID:581-1690563600-1690572600@onecommunityoutreach.org
SUMMARY:Back to School Jam
DESCRIPTION:
URL:https://onecommunityoutreach.org/event/back-to-school-jam/
LOCATION:Pratt Park\, 460 Doster Rd\, Prattville\, AL\, 36067\, United States
ATTACH;FMTTYPE=image/jpeg:https://onecommunityoutreach.org/wp-content/uploads/2023/06/OCOU-BACK2SCHOOL-Summer-2023.jpg
END:VEVENT
BEGIN:VEVENT
DTSTART;TZID=America/Chicago:20230619T113000
DTEND;TZID=America/Chicago:20230619T133000
DTSTAMP:20260423T123608
CREATED:20230604T142227Z
LAST-MODIFIED:20230604T142227Z
UID:585-1687174200-1687181400@onecommunityoutreach.org
SUMMARY:Free Lunch
DESCRIPTION:
URL:https://onecommunityoutreach.org/event/free-lunch/
LOCATION:Pratt Park\, 460 Doster Rd\, Prattville\, AL\, 36067\, United States
ATTACH;FMTTYPE=image/jpeg:https://onecommunityoutreach.org/wp-content/uploads/2023/06/ocou-Free-Lunch-Pic.jpg
END:VEVENT
BEGIN:VEVENT
DTSTART;TZID=America/Chicago:20230414T130000
DTEND;TZID=America/Chicago:20230414T160000
DTSTAMP:20260423T123608
CREATED:20230327T022537Z
LAST-MODIFIED:20230327T022537Z
UID:577-1681477200-1681488000@onecommunityoutreach.org
SUMMARY:The Historical First Missionary Baptist Church Tour
DESCRIPTION:
URL:https://onecommunityoutreach.org/event/the-historical-first-missionary-baptist-church-tour/
LOCATION:1st Missionary Baptist Church\, 192 7th Street\, Prattville\, AL\, 36067\, United States
ATTACH;FMTTYPE=image/png:https://onecommunityoutreach.org/wp-content/uploads/2023/03/ocou-historical-tour-1.png
END:VEVENT
BEGIN:VEVENT
DTSTART;VALUE=DATE:20230213
DTEND;VALUE=DATE:20230527
DTSTAMP:20260423T123608
CREATED:20220922T031411Z
LAST-MODIFIED:20230213T040743Z
UID:400-1676246400-1685145599@onecommunityoutreach.org
SUMMARY:After School Tutoring
DESCRIPTION:After School Tutoring \nTutoring Sessions Will be by Appointment Only \nClick Here to Register On-line Today
URL:https://onecommunityoutreach.org/event/after-school-tutoring/
LOCATION:One Community Outreach United\, 225 N. Memorial Drive\, Prattville\, AL\, 36067\, United States
ATTACH;FMTTYPE=image/png:https://onecommunityoutreach.org/wp-content/uploads/2022/09/OCOU-school-tutoring.png
END:VEVENT
END:VCALENDAR