BEGIN:VCALENDAR
VERSION:2.0
PRODID:-//One Community Outreach United - ECPv6.15.20//NONSGML v1.0//EN
CALSCALE:GREGORIAN
METHOD:PUBLISH
X-ORIGINAL-URL:https://onecommunityoutreach.org
X-WR-CALDESC:Events for One Community Outreach United
REFRESH-INTERVAL;VALUE=DURATION:PT1H
X-Robots-Tag:noindex
X-PUBLISHED-TTL:PT1H
BEGIN:VTIMEZONE
TZID:America/Chicago
BEGIN:DAYLIGHT
TZOFFSETFROM:-0600
TZOFFSETTO:-0500
TZNAME:CDT
DTSTART:20250309T080000
END:DAYLIGHT
BEGIN:STANDARD
TZOFFSETFROM:-0500
TZOFFSETTO:-0600
TZNAME:CST
DTSTART:20251102T070000
END:STANDARD
BEGIN:DAYLIGHT
TZOFFSETFROM:-0600
TZOFFSETTO:-0500
TZNAME:CDT
DTSTART:20260308T080000
END:DAYLIGHT
BEGIN:STANDARD
TZOFFSETFROM:-0500
TZOFFSETTO:-0600
TZNAME:CST
DTSTART:20261101T070000
END:STANDARD
BEGIN:DAYLIGHT
TZOFFSETFROM:-0600
TZOFFSETTO:-0500
TZNAME:CDT
DTSTART:20270314T080000
END:DAYLIGHT
BEGIN:STANDARD
TZOFFSETFROM:-0500
TZOFFSETTO:-0600
TZNAME:CST
DTSTART:20271107T070000
END:STANDARD
END:VTIMEZONE
BEGIN:VEVENT
DTSTART;TZID=America/Chicago:20260530T090000
DTEND;TZID=America/Chicago:20260530T120000
DTSTAMP:20260423T094131
CREATED:20260128T032904Z
LAST-MODIFIED:20260128T032904Z
UID:1173-1780131600-1780142400@onecommunityoutreach.org
SUMMARY:OCOU Annual Health Fair 2026
DESCRIPTION:
URL:https://onecommunityoutreach.org/event/ocou-annual-health-fair-2026/
LOCATION:Doster Community Center\, 424 S. Northington St\, Prattville\, AL\, 36067\, United States
ATTACH;FMTTYPE=image/png:https://onecommunityoutreach.org/wp-content/uploads/2026/01/OCOU-Health-Fair-20262.png
END:VEVENT
END:VCALENDAR