BEGIN:VCALENDAR
VERSION:2.0
PRODID:-//One Community Outreach United - ECPv6.15.20//NONSGML v1.0//EN
CALSCALE:GREGORIAN
METHOD:PUBLISH
X-WR-CALNAME:One Community Outreach United
X-ORIGINAL-URL:https://onecommunityoutreach.org
X-WR-CALDESC:Events for One Community Outreach United
REFRESH-INTERVAL;VALUE=DURATION:PT1H
X-Robots-Tag:noindex
X-PUBLISHED-TTL:PT1H
BEGIN:VTIMEZONE
TZID:America/Chicago
BEGIN:DAYLIGHT
TZOFFSETFROM:-0600
TZOFFSETTO:-0500
TZNAME:CDT
DTSTART:20220313T080000
END:DAYLIGHT
BEGIN:STANDARD
TZOFFSETFROM:-0500
TZOFFSETTO:-0600
TZNAME:CST
DTSTART:20221106T070000
END:STANDARD
BEGIN:DAYLIGHT
TZOFFSETFROM:-0600
TZOFFSETTO:-0500
TZNAME:CDT
DTSTART:20230312T080000
END:DAYLIGHT
BEGIN:STANDARD
TZOFFSETFROM:-0500
TZOFFSETTO:-0600
TZNAME:CST
DTSTART:20231105T070000
END:STANDARD
BEGIN:DAYLIGHT
TZOFFSETFROM:-0600
TZOFFSETTO:-0500
TZNAME:CDT
DTSTART:20240310T080000
END:DAYLIGHT
BEGIN:STANDARD
TZOFFSETFROM:-0500
TZOFFSETTO:-0600
TZNAME:CST
DTSTART:20241103T070000
END:STANDARD
END:VTIMEZONE
BEGIN:VEVENT
DTSTART;VALUE=DATE:20230213
DTEND;VALUE=DATE:20230527
DTSTAMP:20260423T174505
CREATED:20220922T031411Z
LAST-MODIFIED:20230213T040743Z
UID:400-1676246400-1685145599@onecommunityoutreach.org
SUMMARY:After School Tutoring
DESCRIPTION:After School Tutoring \nTutoring Sessions Will be by Appointment Only \nClick Here to Register On-line Today
URL:https://onecommunityoutreach.org/event/after-school-tutoring/
LOCATION:One Community Outreach United\, 225 N. Memorial Drive\, Prattville\, AL\, 36067\, United States
ATTACH;FMTTYPE=image/png:https://onecommunityoutreach.org/wp-content/uploads/2022/09/OCOU-school-tutoring.png
END:VEVENT
END:VCALENDAR